BEGIN:VCALENDAR
VERSION:2.0
PRODID:-//El Korah Shrine - ECPv6.15.11//NONSGML v1.0//EN
CALSCALE:GREGORIAN
METHOD:PUBLISH
X-ORIGINAL-URL:https://www.elkorahshrine.com
X-WR-CALDESC:Events for El Korah Shrine
REFRESH-INTERVAL;VALUE=DURATION:PT1H
X-Robots-Tag:noindex
X-PUBLISHED-TTL:PT1H
BEGIN:VTIMEZONE
TZID:America/Boise
BEGIN:DAYLIGHT
TZOFFSETFROM:-0700
TZOFFSETTO:-0600
TZNAME:MDT
DTSTART:20230312T090000
END:DAYLIGHT
BEGIN:STANDARD
TZOFFSETFROM:-0600
TZOFFSETTO:-0700
TZNAME:MST
DTSTART:20231105T080000
END:STANDARD
BEGIN:DAYLIGHT
TZOFFSETFROM:-0700
TZOFFSETTO:-0600
TZNAME:MDT
DTSTART:20240310T090000
END:DAYLIGHT
BEGIN:STANDARD
TZOFFSETFROM:-0600
TZOFFSETTO:-0700
TZNAME:MST
DTSTART:20241103T080000
END:STANDARD
BEGIN:DAYLIGHT
TZOFFSETFROM:-0700
TZOFFSETTO:-0600
TZNAME:MDT
DTSTART:20250309T090000
END:DAYLIGHT
BEGIN:STANDARD
TZOFFSETFROM:-0600
TZOFFSETTO:-0700
TZNAME:MST
DTSTART:20251102T080000
END:STANDARD
END:VTIMEZONE
BEGIN:VEVENT
DTSTART;VALUE=DATE:20240630
DTEND;VALUE=DATE:20240705
DTSTAMP:20260423T120319
CREATED:20231224T013749Z
LAST-MODIFIED:20231224T013929Z
UID:4548-1719705600-1720137599@www.elkorahshrine.com
SUMMARY:Imperial Session  -  Reno\, NV
DESCRIPTION:
URL:https://www.elkorahshrine.com/event/imperial-session/
CATEGORIES:Calendar
END:VEVENT
BEGIN:VEVENT
DTSTART;TZID=America/Boise:20240630T080000
DTEND;TZID=America/Boise:20240702T170000
DTSTAMP:20260423T120319
CREATED:20231224T175752Z
LAST-MODIFIED:20231224T175837Z
UID:4574-1719734400-1719939600@www.elkorahshrine.com
SUMMARY:P.N.S.A. - Reno
DESCRIPTION:
URL:https://www.elkorahshrine.com/event/p-n-s-reno/
CATEGORIES:Calendar
END:VEVENT
BEGIN:VEVENT
DTSTART;VALUE=DATE:20240704
DTEND;VALUE=DATE:20240705
DTSTAMP:20260423T120319
CREATED:20231224T013641Z
LAST-MODIFIED:20231224T175713Z
UID:4546-1720051200-1720137599@www.elkorahshrine.com
SUMMARY:INDEPENDENCE DAY
DESCRIPTION:
URL:https://www.elkorahshrine.com/event/independence-day-2/
CATEGORIES:Calendar
ATTACH;FMTTYPE=image/jpeg:https://www.elkorahshrine.com/wp-content/uploads/2020/07/An-Independence-Day-Message-from-Crimson-Trace.jpg
END:VEVENT
BEGIN:VEVENT
DTSTART;TZID=America/Boise:20240726T100000
DTEND;TZID=America/Boise:20240726T213000
DTSTAMP:20260423T120319
CREATED:20231224T180137Z
LAST-MODIFIED:20231224T180137Z
UID:4576-1721988000-1722029400@www.elkorahshrine.com
SUMMARY:Baker City Social
DESCRIPTION:
URL:https://www.elkorahshrine.com/event/baker-city-social/
CATEGORIES:Calendar
END:VEVENT
BEGIN:VEVENT
DTSTART;TZID=America/Boise:20240727T120000
DTEND;TZID=America/Boise:20240727T190000
DTSTAMP:20260423T120319
CREATED:20231224T180341Z
LAST-MODIFIED:20231224T180341Z
UID:4578-1722081600-1722106800@www.elkorahshrine.com
SUMMARY:E/W Football Game -Baker City
DESCRIPTION:E/W
URL:https://www.elkorahshrine.com/event/e-w-football-game-baker-city/
CATEGORIES:Calendar
END:VEVENT
END:VCALENDAR